BEGIN:VCALENDAR
VERSION:2.0
PRODID:icalendar-ruby
CALSCALE:GREGORIAN
METHOD:PUBLISH
BEGIN:VEVENT
DTSTAMP:20260424T052809Z
UID:5-538280@islandchurchei.com
DTSTART:20261011T140000Z
DTEND:20261011T153000Z
CLASS:PUBLIC
CREATED:20260423T215113
DESCRIPTION:Come join us as we worship together as a church family!
LAST-MODIFIED:20260423T215113
LOCATION:7500 Emerald Drive\, Emerald Isle\, NC
SUMMARY:Sunday Worship Service
URL;VALUE=URI:https://islandchurchei.com/events/sunday-worship-service/2026
 -10-11
END:VEVENT
END:VCALENDAR
